BEGIN:VCALENDAR
VERSION:2.0
PRODID:-//Taubman College - ECPv6.15.20//NONSGML v1.0//EN
CALSCALE:GREGORIAN
METHOD:PUBLISH
X-WR-CALNAME:Taubman College
X-ORIGINAL-URL:https://taubmancollege.umich.edu
X-WR-CALDESC:Events for Taubman College
REFRESH-INTERVAL;VALUE=DURATION:PT1H
X-Robots-Tag:noindex
X-PUBLISHED-TTL:PT1H
BEGIN:VTIMEZONE
TZID:America/Detroit
BEGIN:DAYLIGHT
TZOFFSETFROM:-0500
TZOFFSETTO:-0400
TZNAME:EDT
DTSTART:20250309T070000
END:DAYLIGHT
BEGIN:STANDARD
TZOFFSETFROM:-0400
TZOFFSETTO:-0500
TZNAME:EST
DTSTART:20251102T060000
END:STANDARD
BEGIN:DAYLIGHT
TZOFFSETFROM:-0500
TZOFFSETTO:-0400
TZNAME:EDT
DTSTART:20260308T070000
END:DAYLIGHT
BEGIN:STANDARD
TZOFFSETFROM:-0400
TZOFFSETTO:-0500
TZNAME:EST
DTSTART:20261101T060000
END:STANDARD
BEGIN:DAYLIGHT
TZOFFSETFROM:-0500
TZOFFSETTO:-0400
TZNAME:EDT
DTSTART:20270314T070000
END:DAYLIGHT
BEGIN:STANDARD
TZOFFSETFROM:-0400
TZOFFSETTO:-0500
TZNAME:EST
DTSTART:20271107T060000
END:STANDARD
END:VTIMEZONE
BEGIN:VEVENT
DTSTART;TZID=America/Detroit:20260220T113000
DTEND;TZID=America/Detroit:20260220T130000
DTSTAMP:20260421T044419
CREATED:20260202T174411Z
LAST-MODIFIED:20260202T174411Z
UID:58390-1771587000-1771592400@taubmancollege.umich.edu
SUMMARY:AI in the Wild: Normie Weird\, Sketchy Realism Other Futile Tirades - Silvio Lorusso
DESCRIPTION:Lorusso shares a growing archive of strange\, telling AI image moments and traces how the weird becomes ordinary. He introduces sketchy realism and presents notes\, fragments\, and aphorisms on AI images\, including new material.
URL:https://taubmancollege.umich.edu/event/ai-in-the-wild-normie-weird-sketchy-realism-other-futile-tirades-silvio-lorusso/
LOCATION:Art & Architecture Building TV Lab\, Room 2106\, 2000 Bonisteel Blvd\, Ann Arbor\, MI\, 48109\, United States
CATEGORIES:Events for Students, Faculty, & Staff
END:VEVENT
END:VCALENDAR